BEGIN:VCALENDAR
VERSION:2.0
PRODID:-//eventon.com NONSGML v1.0//EN
CALSCALE:GREGORIAN
METHOD:PUBLISH
BEGIN:VEVENT
UID:69ecb2c0efc0f
DTSTAMP:20260425T122536Z
DTSTART:20260425T230000Z
DTEND:20260426T020000Z
LOCATION:St. Thomas Social St. Thomas\,  5320 Yacht Haven Grande\,  Charlotte Amalie\,  00802
SUMMARY:St. Thomas Social Jazz Night
DESCRIPTION:Live Music Every Saturday Begins at 7:00 PM&nbsp; Visit ww.stt.
 social or contact 340-715-5930 for more\nhttps://www.myviapp.com/events/st-
 thomas-social-jazz-night/var/ri-8.l-L1
URL:https://www.myviapp.com/events/st-thomas-social-jazz-night/var/ri-8.l-L1
END:VEVENT
END:VCALENDAR