BEGIN:VCALENDAR
VERSION:2.0
PRODID:-//eventon.com NONSGML v1.0//EN
CALSCALE:GREGORIAN
METHOD:PUBLISH
BEGIN:VEVENT
UID:69e9d9cfa6c13
DTSTAMP:20260423T083527Z
DTSTART:20250430T030000Z
DTEND:20250430T080000Z
LOCATION:Encore Lounge &amp; Restaurant St. Thomas\,  Virgin Islands
SUMMARY:Army Fete
DESCRIPTION:ENTERTAINMENT BY UNKLE SASS • JOUGO • TEEJAAY • B SQUAD F
 T QUAN JUGGLING BY DJ REG\nhttps://www.myviapp.com/events/army-fete/
URL:https://www.myviapp.com/events/army-fete/
END:VEVENT
END:VCALENDAR