BEGIN:VCALENDAR
VERSION:2.0
PRODID:-//eventon.com NONSGML v1.0//EN
CALSCALE:GREGORIAN
METHOD:PUBLISH
BEGIN:VEVENT
UID:69e8b0252aeba
DTSTAMP:20260422T112525Z
DTSTART:20260424T230000Z
DTEND:20260425T020000Z
LOCATION:Sion Farm Distillery Sion Farm Distillery\,  St. Croix\,  Virgin Islands
SUMMARY:Salsa @ Sion
DESCRIPTION:Salsa @ Sion\nhttps://www.myviapp.com/events/salsa-sion-2/
URL:https://www.myviapp.com/events/salsa-sion-2/
END:VEVENT
END:VCALENDAR