BEGIN:VCALENDAR
VERSION:2.0
PRODID:-//eventon.com NONSGML v1.0//EN
CALSCALE:GREGORIAN
METHOD:PUBLISH
BEGIN:VEVENT
UID:69e9f17ec2877
DTSTAMP:20260423T101630Z
DTSTART:20260425T143000Z
DTEND:20260425T200000Z
LOCATION:St. Thomas St. Thomas\,  St. Thomas\,  Virgin Islands
SUMMARY:Brunch & Bikinis: Carnival Kickoff
DESCRIPTION:Brunch & Bikinis: Carnival Kickoff\nhttps://www.myviapp.com/eve
 nts/brunch-bikinis-carnival-kickoff/
URL:https://www.myviapp.com/events/brunch-bikinis-carnival-kickoff/
END:VEVENT
END:VCALENDAR