BEGIN:VCALENDAR
VERSION:2.0
PRODID:-//eventon.com NONSGML v1.0//EN
CALSCALE:GREGORIAN
METHOD:PUBLISH
BEGIN:VEVENT
UID:69e9f1a657fa4
DTSTAMP:20260423T101710Z
DTSTART:20260425
DTEND:20260426
LOCATION:Muse Muse\,  St. Thomas\,  Virgin Islands
SUMMARY:Big Shaw Saturday: Jam in Jeans
DESCRIPTION:Big Shaw Saturday: Jam in Jeans\nhttps://www.myviapp.com/events
 /big-shaw-saturday-jam-in-jeans/
URL:https://www.myviapp.com/events/big-shaw-saturday-jam-in-jeans/
END:VEVENT
END:VCALENDAR