BEGIN:VCALENDAR
VERSION:2.0
PRODID:-//eventon.com NONSGML v1.0//EN
CALSCALE:GREGORIAN
METHOD:PUBLISH
BEGIN:VEVENT
UID:69ecb1fc1d4b5
DTSTAMP:20260425T122220Z
DTSTART:20260426T150000Z
DTEND:20260426T210000Z
LOCATION:Veterans Drive St. Thomas
SUMMARY:Boat Race
DESCRIPTION:Boat Race\nhttps://www.myviapp.com/events/boat-race-2/
URL:https://www.myviapp.com/events/boat-race-2/
END:VEVENT
END:VCALENDAR