BEGIN:VCALENDAR
VERSION:2.0
PRODID:-//eventon.com NONSGML v1.0//EN
CALSCALE:GREGORIAN
METHOD:PUBLISH
BEGIN:VEVENT
UID:69ecb2e1bf7fe
DTSTAMP:20260425T122609Z
DTSTART:20260426T000000Z
DTEND:20260426T050000Z
LOCATION:St. Thomas Carnival Village St. Thomas Carnival Village\,  St. Thomas\,  Virgin Islands
SUMMARY:Calypso Monarch
DESCRIPTION:Calypso Monarch\nhttps://www.myviapp.com/events/calypso-monarch
 -3/
URL:https://www.myviapp.com/events/calypso-monarch-3/
END:VEVENT
END:VCALENDAR