BEGIN:VCALENDAR
VERSION:2.0
PRODID:-//eventon.com NONSGML v1.0//EN
CALSCALE:GREGORIAN
METHOD:PUBLISH
BEGIN:VEVENT
UID:69e63c645c2a1
DTSTAMP:20260420T144700Z
DTSTART:20260423T230000Z
DTEND:20260424T020000Z
LOCATION:St. Thomas Carnival Village St. Thomas Carnival Village\,  St. Thomas\,  Virgin Islands
SUMMARY:Jr. Calypso / Cultural Event
DESCRIPTION:Jr. Calypso / Cultural Event\nhttps://www.myviapp.com/events/jr
 -calypso-cultural-event/
URL:https://www.myviapp.com/events/jr-calypso-cultural-event/
END:VEVENT
END:VCALENDAR