BEGIN:VCALENDAR
VERSION:2.0
PRODID:-//eventon.com NONSGML v1.0//EN
CALSCALE:GREGORIAN
METHOD:PUBLISH
BEGIN:VEVENT
UID:69ecb2c06c65e
DTSTAMP:20260425T122536Z
DTSTART:20260425
DTEND:20260426
LOCATION:Muse Muse\,  St. Thomas\,  Virgin Islands
SUMMARY:Big Shaw Saturday
DESCRIPTION:SAVE THE DATE&nbsp; Demin Edition\nhttps://www.myviapp.com/even
 ts/big-shaw-saturday/
URL:https://www.myviapp.com/events/big-shaw-saturday/
END:VEVENT
END:VCALENDAR