BEGIN:VCALENDAR
VERSION:2.0
PRODID:-//eventon.com NONSGML v1.0//EN
CALSCALE:GREGORIAN
METHOD:PUBLISH
BEGIN:VEVENT
UID:69ecb336d206b
DTSTAMP:20260425T122734Z
DTSTART:20260425T150000Z
DTEND:20260425T220000Z
LOCATION:St. Thomas St. Thomas\,  St. Thomas\,  Virgin Islands
SUMMARY:Big Bad Fete: Purple Haze
DESCRIPTION:Dresscode: Purple Paint &#8211; Foam &#8211; Water &#8211; Powd
 er\nhttps://www.myviapp.com/events/big-bad-fete-purple-haze/
URL:https://www.myviapp.com/events/big-bad-fete-purple-haze/
END:VEVENT
END:VCALENDAR