BEGIN:VCALENDAR
VERSION:2.0
PRODID:-//eventon.com NONSGML v1.0//EN
CALSCALE:GREGORIAN
METHOD:PUBLISH
BEGIN:VEVENT
UID:69e9f0bb18602
DTSTAMP:20260423T101315Z
DTSTART:20260425
DTEND:20260426
LOCATION:St. Thomas St. Thomas\,  St. Thomas\,  Virgin Islands
SUMMARY:Soka Elements: Big Bad Fete
DESCRIPTION:Soka Elements: Big Bad Fete\nhttps://www.myviapp.com/events/sok
 a-elements-big-bad-fete/
URL:https://www.myviapp.com/events/soka-elements-big-bad-fete/
END:VEVENT
END:VCALENDAR