BEGIN:VCALENDAR
VERSION:2.0
PRODID:-//eventon.com NONSGML v1.0//EN
CALSCALE:GREGORIAN
METHOD:PUBLISH
BEGIN:VEVENT
UID:69e9daa69b79a
DTSTAMP:20260423T083902Z
DTSTART:20250607T160000Z
DTEND:20250607T200000Z
LOCATION:Christiansted Christiansted\,  St. Croix\,  Virgin Islands
SUMMARY:The After Party for the 6th Annual St. Croix Pride Parade
DESCRIPTION:The After Party for the 6th Annual St. Croix Pride Parade\nhttp
 s://www.myviapp.com/events/the-after-party-for-the-6th-annual-st-croix-prid
 e-parade/
URL:https://www.myviapp.com/events/the-after-party-for-the-6th-annual-st-croix-pride-parade/
END:VEVENT
END:VCALENDAR